Package: OmaDB Version: 2.20.0 Command: E:\biocbuild\bbs-3.19-bioc\R\bin\R.exe CMD INSTALL OmaDB StartedAt: 2024-10-16 17:15:02 -0400 (Wed, 16 Oct 2024) EndedAt: 2024-10-16 17:15:34 -0400 (Wed, 16 Oct 2024) EllapsedTime: 31.5 seconds RetCode: 0 Status: OK