Package: OmaDB Version: 2.20.0 Command: chmod a+r OmaDB -R && E:\biocbuild\bbs-3.19-bioc\R\bin\R.exe CMD build --keep-empty-dirs --no-resave-data OmaDB StartedAt: 2024-10-16 20:46:18 -0400 (Wed, 16 Oct 2024) EndedAt: 2024-10-16 20:46:52 -0400 (Wed, 16 Oct 2024) EllapsedTime: 34.1 seconds RetCode: 0 Status: OK PackageFile: OmaDB_2.20.0.tar.gz PackageFileSize: 98.31 KiB