Package: OmaDB Version: 2.20.0 Command: /Library/Frameworks/R.framework/Resources/bin/R CMD check --install=check:OmaDB.install-out.txt --library=/Library/Frameworks/R.framework/Resources/library --no-vignettes --timings OmaDB_2.20.0.tar.gz StartedAt: 2024-06-11 00:11:11 -0400 (Tue, 11 Jun 2024) EndedAt: 2024-06-11 00:21:13 -0400 (Tue, 11 Jun 2024) EllapsedTime: 601.9 seconds RetCode: 0 Status: OK CheckDir: OmaDB.Rcheck Warnings: 0