Package: OmaDB Version: 2.20.0 Command: /Library/Frameworks/R.framework/Resources/bin/R CMD build --keep-empty-dirs --no-resave-data OmaDB StartedAt: 2024-06-10 01:53:30 -0400 (Mon, 10 Jun 2024) EndedAt: 2024-06-10 01:54:07 -0400 (Mon, 10 Jun 2024) EllapsedTime: 37.0 seconds RetCode: 0 Status: OK PackageFile: OmaDB_2.20.0.tar.gz PackageFileSize: 98.18 KiB