Package: OmaDB Version: 2.20.0 Command: rm -rf OmaDB.buildbin-libdir && mkdir OmaDB.buildbin-libdir && /Users/biocbuild/BBS/utils/build-universal.sh OmaDB_2.20.0.tar.gz /Library/Frameworks/R.framework/Resources/bin/R OmaDB.buildbin-libdir StartedAt: 2024-10-18 19:48:53 -0400 (Fri, 18 Oct 2024) EndedAt: 2024-10-18 19:49:18 -0400 (Fri, 18 Oct 2024) EllapsedTime: 25.0 seconds RetCode: 0 Status: OK PackageFile: OmaDB_2.20.0.tgz PackageFileSize: 180.1 KiB