Package: OVESEG Version: 1.20.0 Command: chmod a+r OVESEG -R && E:\biocbuild\bbs-3.19-bioc\R\bin\R.exe CMD build --keep-empty-dirs --no-resave-data OVESEG StartedAt: 2024-10-16 20:53:36 -0400 (Wed, 16 Oct 2024) EndedAt: 2024-10-16 20:59:21 -0400 (Wed, 16 Oct 2024) EllapsedTime: 344.4 seconds RetCode: 0 Status: OK PackageFile: OVESEG_1.20.0.tar.gz PackageFileSize: 766 KiB