Package: OVESEG Version: 1.20.0 Command: rm -rf OVESEG.buildbin-libdir && mkdir OVESEG.buildbin-libdir && E:\biocbuild\bbs-3.19-bioc\R\bin\R.exe CMD INSTALL --build --library=OVESEG.buildbin-libdir OVESEG_1.20.0.tar.gz StartedAt: 2024-10-17 08:18:46 -0400 (Thu, 17 Oct 2024) EndedAt: 2024-10-17 08:19:15 -0400 (Thu, 17 Oct 2024) EllapsedTime: 28.5 seconds RetCode: 0 Status: OK PackageFile: OVESEG_1.20.0.zip PackageFileSize: 1.132 MiB