Package: OVESEG Version: 1.20.0 Command: /Library/Frameworks/R.framework/Resources/bin/R CMD INSTALL OVESEG StartedAt: 2024-10-16 15:27:30 -0400 (Wed, 16 Oct 2024) EndedAt: 2024-10-16 15:28:07 -0400 (Wed, 16 Oct 2024) EllapsedTime: 37.1 seconds RetCode: 0 Status: OK