Package: OVESEG Version: 1.20.0 Command: /Library/Frameworks/R.framework/Resources/bin/R CMD build --keep-empty-dirs --no-resave-data OVESEG StartedAt: 2024-06-09 17:36:33 -0400 (Sun, 09 Jun 2024) EndedAt: 2024-06-09 17:44:15 -0400 (Sun, 09 Jun 2024) EllapsedTime: 461.6 seconds RetCode: 0 Status: OK PackageFile: OVESEG_1.20.0.tar.gz PackageFileSize: 796.6 KiB