Package: OVESEG Version: 1.20.0 Command: rm -rf OVESEG.buildbin-libdir && mkdir OVESEG.buildbin-libdir && /Users/biocbuild/BBS/utils/build-universal.sh OVESEG_1.20.0.tar.gz /Library/Frameworks/R.framework/Resources/bin/R OVESEG.buildbin-libdir StartedAt: 2024-06-10 00:31:14 -0400 (Mon, 10 Jun 2024) EndedAt: 2024-06-10 00:31:43 -0400 (Mon, 10 Jun 2024) EllapsedTime: 29.3 seconds RetCode: 0 Status: OK PackageFile: OVESEG_1.20.0.tgz PackageFileSize: 875.5 KiB