Package: OVESEG Version: 1.20.0 Command: /home/biocbuild/R/R-beta-2024-04-15_r86425/bin/R CMD check --install=check:OVESEG.install-out.txt --library=/home/biocbuild/R/R-beta-2024-04-15_r86425/site-library --no-vignettes --timings OVESEG_1.20.0.tar.gz StartedAt: 2024-05-09 10:19:23 -0000 (Thu, 09 May 2024) EndedAt: 2024-05-09 10:21:18 -0000 (Thu, 09 May 2024) EllapsedTime: 115.3 seconds RetCode: 0 Status: OK CheckDir: OVESEG.Rcheck Warnings: 0