Package: OVESEG Version: 1.20.0 Command: /Library/Frameworks/R.framework/Resources/bin/R CMD build --keep-empty-dirs --no-resave-data OVESEG StartedAt: 2024-06-10 02:09:21 -0400 (Mon, 10 Jun 2024) EndedAt: 2024-06-10 02:20:03 -0400 (Mon, 10 Jun 2024) EllapsedTime: 641.4 seconds RetCode: 0 Status: OK PackageFile: OVESEG_1.20.0.tar.gz PackageFileSize: 796.8 KiB