Package: OVESEG Version: 1.20.0 Command: /Library/Frameworks/R.framework/Resources/bin/R CMD check --install=check:OVESEG.install-out.txt --library=/Library/Frameworks/R.framework/Resources/library --no-vignettes --timings OVESEG_1.20.0.tar.gz StartedAt: 2024-10-18 06:51:49 -0400 (Fri, 18 Oct 2024) EndedAt: 2024-10-18 06:53:19 -0400 (Fri, 18 Oct 2024) EllapsedTime: 90.1 seconds RetCode: 0 Status: OK CheckDir: OVESEG.Rcheck Warnings: 0