Package: OUTRIDER Version: 1.22.0 Command: /home/biocbuild/bbs-3.19-bioc/R/bin/R CMD build --keep-empty-dirs --no-resave-data OUTRIDER StartedAt: 2024-10-16 19:57:59 -0400 (Wed, 16 Oct 2024) EndedAt: 2024-10-16 20:06:24 -0400 (Wed, 16 Oct 2024) EllapsedTime: 504.4 seconds RetCode: 0 Status: OK PackageFile: OUTRIDER_1.22.0.tar.gz PackageFileSize: 2.446 MiB