Package: OUTRIDER Version: 1.22.0 Command: /Library/Frameworks/R.framework/Resources/bin/R CMD build --keep-empty-dirs --no-resave-data OUTRIDER StartedAt: 2024-10-16 21:49:00 -0400 (Wed, 16 Oct 2024) EndedAt: 2024-10-16 22:05:06 -0400 (Wed, 16 Oct 2024) EllapsedTime: 965.4 seconds RetCode: 0 Status: OK PackageFile: OUTRIDER_1.22.0.tar.gz PackageFileSize: 2.494 MiB