Package: OUTRIDER Version: 1.22.0 Command: /Library/Frameworks/R.framework/Resources/bin/R CMD check --install=check:OUTRIDER.install-out.txt --library=/Library/Frameworks/R.framework/Resources/library --no-vignettes --timings OUTRIDER_1.22.0.tar.gz StartedAt: 2024-05-26 23:06:27 -0400 (Sun, 26 May 2024) EndedAt: 2024-05-26 23:17:12 -0400 (Sun, 26 May 2024) EllapsedTime: 645.3 seconds RetCode: 0 Status: OK CheckDir: OUTRIDER.Rcheck Warnings: 0