Package: OUTRIDER Version: 1.22.0 Command: rm -rf OUTRIDER.buildbin-libdir && mkdir OUTRIDER.buildbin-libdir && /Users/biocbuild/BBS/utils/build-universal.sh OUTRIDER_1.22.0.tar.gz /Library/Frameworks/R.framework/Resources/bin/R OUTRIDER.buildbin-libdir StartedAt: 2024-05-27 01:51:30 -0400 (Mon, 27 May 2024) EndedAt: 2024-05-27 01:52:56 -0400 (Mon, 27 May 2024) EllapsedTime: 86.0 seconds RetCode: 0 Status: OK PackageFile: OUTRIDER_1.22.0.tgz PackageFileSize: 2.586 MiB