Package: OTUbase Version: 1.54.0 Command: rm -rf OTUbase.buildbin-libdir && mkdir OTUbase.buildbin-libdir && F:\biocbuild\bbs-3.19-bioc\R\bin\R.exe CMD INSTALL --build --library=OTUbase.buildbin-libdir OTUbase_1.54.0.tar.gz StartedAt: 2024-06-27 08:38:14 -0400 (Thu, 27 Jun 2024) EndedAt: 2024-06-27 08:39:16 -0400 (Thu, 27 Jun 2024) EllapsedTime: 62.0 seconds RetCode: 0 Status: OK PackageFile: OTUbase_1.54.0.zip PackageFileSize: 556.2 KiB