Package: OTUbase Version: 1.54.0 Command: /home/biocbuild/bbs-3.19-bioc/R/bin/R CMD build --keep-empty-dirs --no-resave-data OTUbase StartedAt: 2024-10-16 19:57:47 -0400 (Wed, 16 Oct 2024) EndedAt: 2024-10-16 19:59:30 -0400 (Wed, 16 Oct 2024) EllapsedTime: 103.4 seconds RetCode: 0 Status: OK PackageFile: OTUbase_1.54.0.tar.gz PackageFileSize: 179.6 KiB