Package: OTUbase Version: 1.54.0 Command: /Library/Frameworks/R.framework/Resources/bin/R CMD build --keep-empty-dirs --no-resave-data OTUbase StartedAt: 2024-10-16 21:48:57 -0400 (Wed, 16 Oct 2024) EndedAt: 2024-10-16 21:52:36 -0400 (Wed, 16 Oct 2024) EllapsedTime: 219.1 seconds RetCode: 0 Status: OK PackageFile: OTUbase_1.54.0.tar.gz PackageFileSize: 179 KiB