Package: OTUbase Version: 1.54.0 Command: /home/biocbuild/R/R-beta-2024-04-15_r86425/bin/R CMD INSTALL OTUbase StartedAt: 2024-05-08 20:34:54 -0000 (Wed, 08 May 2024) EndedAt: 2024-05-08 20:35:35 -0000 (Wed, 08 May 2024) EllapsedTime: 41.4 seconds RetCode: 0 Status: OK