Package: OTUbase Version: 1.54.0 Command: rm -rf OTUbase.buildbin-libdir && mkdir OTUbase.buildbin-libdir && /Users/biocbuild/BBS/utils/build-universal.sh OTUbase_1.54.0.tar.gz /Library/Frameworks/R.framework/Resources/bin/R OTUbase.buildbin-libdir StartedAt: 2024-10-18 19:52:14 -0400 (Fri, 18 Oct 2024) EndedAt: 2024-10-18 19:53:02 -0400 (Fri, 18 Oct 2024) EllapsedTime: 47.9 seconds RetCode: 0 Status: OK PackageFile: OTUbase_1.54.0.tgz PackageFileSize: 551.7 KiB