Package: OSAT Version: 1.52.0 Command: E:\biocbuild\bbs-3.19-bioc\R\bin\R.exe CMD INSTALL OSAT StartedAt: 2024-10-16 15:58:31 -0400 (Wed, 16 Oct 2024) EndedAt: 2024-10-16 15:58:49 -0400 (Wed, 16 Oct 2024) EllapsedTime: 18.4 seconds RetCode: 0 Status: OK