Package: OSAT Version: 1.52.0 Command: /Library/Frameworks/R.framework/Resources/bin/R CMD check --install=check:OSAT.install-out.txt --library=/Library/Frameworks/R.framework/Resources/library --no-vignettes --timings OSAT_1.52.0.tar.gz StartedAt: 2024-10-17 10:25:55 -0400 (Thu, 17 Oct 2024) EndedAt: 2024-10-17 10:27:03 -0400 (Thu, 17 Oct 2024) EllapsedTime: 68.2 seconds RetCode: 0 Status: OK CheckDir: OSAT.Rcheck Warnings: 0