Package: OSAT Version: 1.52.0 Command: /Library/Frameworks/R.framework/Resources/bin/R CMD build --keep-empty-dirs --no-resave-data OSAT StartedAt: 2024-10-16 21:48:40 -0400 (Wed, 16 Oct 2024) EndedAt: 2024-10-16 21:51:27 -0400 (Wed, 16 Oct 2024) EllapsedTime: 166.6 seconds RetCode: 0 Status: OK PackageFile: OSAT_1.52.0.tar.gz PackageFileSize: 960.1 KiB