Package: ORFik Version: 1.24.0 Command: chmod a+r ORFik -R && E:\biocbuild\bbs-3.19-bioc\R\bin\R.exe CMD build --keep-empty-dirs --no-resave-data ORFik StartedAt: 2024-10-16 20:50:37 -0400 (Wed, 16 Oct 2024) EndedAt: 2024-10-16 20:59:25 -0400 (Wed, 16 Oct 2024) EllapsedTime: 527.9 seconds RetCode: 0 Status: OK PackageFile: ORFik_1.24.0.tar.gz PackageFileSize: 3.168 MiB