Package: ORFik Version: 1.24.0 Command: rm -rf ORFik.buildbin-libdir && mkdir ORFik.buildbin-libdir && /Users/biocbuild/BBS/utils/build-universal.sh ORFik_1.24.0.tar.gz /Library/Frameworks/R.framework/Resources/bin/R ORFik.buildbin-libdir StartedAt: 2024-10-17 16:47:13 -0400 (Thu, 17 Oct 2024) EndedAt: 2024-10-17 16:50:24 -0400 (Thu, 17 Oct 2024) EllapsedTime: 190.1 seconds RetCode: 0 Status: OK PackageFile: ORFik_1.24.0.tgz PackageFileSize: 5.467 MiB