Package: ORFik Version: 1.24.0 Command: /Library/Frameworks/R.framework/Resources/bin/R CMD INSTALL ORFik StartedAt: 2024-10-16 17:08:10 -0400 (Wed, 16 Oct 2024) EndedAt: 2024-10-16 17:09:32 -0400 (Wed, 16 Oct 2024) EllapsedTime: 81.2 seconds RetCode: 0 Status: OK