Package: ORFik Version: 1.24.0 Command: /Library/Frameworks/R.framework/Resources/bin/R CMD check --install=check:ORFik.install-out.txt --library=/Library/Frameworks/R.framework/Resources/library --no-vignettes --timings ORFik_1.24.0.tar.gz StartedAt: 2024-10-15 06:16:15 -0400 (Tue, 15 Oct 2024) EndedAt: 2024-10-15 06:26:52 -0400 (Tue, 15 Oct 2024) EllapsedTime: 637.9 seconds RetCode: 0 Status: OK CheckDir: ORFik.Rcheck Warnings: 0