Package: ORFhunteR Version: 1.12.0 Command: chmod a+r ORFhunteR -R && E:\biocbuild\bbs-3.19-bioc\R\bin\R.exe CMD build --keep-empty-dirs --no-resave-data ORFhunteR StartedAt: 2024-10-16 20:50:26 -0400 (Wed, 16 Oct 2024) EndedAt: 2024-10-16 20:53:35 -0400 (Wed, 16 Oct 2024) EllapsedTime: 188.9 seconds RetCode: 0 Status: OK PackageFile: ORFhunteR_1.12.0.tar.gz PackageFileSize: 2.108 MiB