Package: ORFhunteR Version: 1.12.0 Command: /home/biocbuild/bbs-3.19-bioc/R/bin/R CMD check --install=check:ORFhunteR.install-out.txt --library=/home/biocbuild/bbs-3.19-bioc/R/site-library --timings ORFhunteR_1.12.0.tar.gz StartedAt: 2024-10-17 03:21:02 -0400 (Thu, 17 Oct 2024) EndedAt: 2024-10-17 03:36:13 -0400 (Thu, 17 Oct 2024) EllapsedTime: 911.5 seconds RetCode: 0 Status: OK CheckDir: ORFhunteR.Rcheck Warnings: 0