Package: ORFhunteR Version: 1.12.0 Command: /home/biocbuild/bbs-3.19-bioc/R/bin/R CMD build --keep-empty-dirs --no-resave-data ORFhunteR StartedAt: 2024-10-16 19:56:04 -0400 (Wed, 16 Oct 2024) EndedAt: 2024-10-16 20:00:55 -0400 (Wed, 16 Oct 2024) EllapsedTime: 290.7 seconds RetCode: 0 Status: OK PackageFile: ORFhunteR_1.12.0.tar.gz PackageFileSize: 2.108 MiB