Package: ORFhunteR Version: 1.12.0 Command: /Library/Frameworks/R.framework/Resources/bin/R CMD INSTALL ORFhunteR StartedAt: 2024-10-16 15:39:22 -0400 (Wed, 16 Oct 2024) EndedAt: 2024-10-16 15:40:57 -0400 (Wed, 16 Oct 2024) EllapsedTime: 94.4 seconds RetCode: 0 Status: OK