Package: ORFhunteR Version: 1.12.0 Command: rm -rf ORFhunteR.buildbin-libdir && mkdir ORFhunteR.buildbin-libdir && /Users/biocbuild/BBS/utils/build-universal.sh ORFhunteR_1.12.0.tar.gz /Library/Frameworks/R.framework/Resources/bin/R ORFhunteR.buildbin-libdir StartedAt: 2024-06-11 12:25:35 -0400 (Tue, 11 Jun 2024) EndedAt: 2024-06-11 12:27:06 -0400 (Tue, 11 Jun 2024) EllapsedTime: 91.1 seconds RetCode: 0 Status: OK PackageFile: ORFhunteR_1.12.0.tgz PackageFileSize: 1.45 MiB