Package: ORFhunteR Version: 1.12.0 Command: /Library/Frameworks/R.framework/Resources/bin/R CMD build --keep-empty-dirs --no-resave-data ORFhunteR StartedAt: 2024-10-17 05:57:47 -0400 (Thu, 17 Oct 2024) EndedAt: 2024-10-17 06:00:49 -0400 (Thu, 17 Oct 2024) EllapsedTime: 182.6 seconds RetCode: 0 Status: OK PackageFile: ORFhunteR_1.12.0.tar.gz PackageFileSize: 2.108 MiB