Package: ORFhunteR Version: 1.12.0 Maintainer: Vasily V. Grinev MaintainerEmail: grinev_vv at bsu.by git_url: https://git.bioconductor.org/packages/ORFhunteR git_branch: RELEASE_3_19 git_last_commit: 26b8f67 git_last_commit_date: 2024-04-30 11:30:51 -0400 (Tue, 30 Apr 2024)