Package: OPWeight Version: 1.26.0 Command: E:\biocbuild\bbs-3.19-bioc\R\bin\R.exe CMD INSTALL OPWeight StartedAt: 2024-10-16 16:10:53 -0400 (Wed, 16 Oct 2024) EndedAt: 2024-10-16 16:11:05 -0400 (Wed, 16 Oct 2024) EllapsedTime: 11.7 seconds RetCode: 0 Status: OK