Package: OPWeight Version: 1.26.0 Command: E:\biocbuild\bbs-3.19-bioc\R\bin\R.exe CMD check --no-multiarch --install=check:OPWeight.install-out.txt --library=E:\biocbuild\bbs-3.19-bioc\R\library --no-vignettes --timings OPWeight_1.26.0.tar.gz StartedAt: 2024-10-17 04:10:07 -0400 (Thu, 17 Oct 2024) EndedAt: 2024-10-17 04:11:14 -0400 (Thu, 17 Oct 2024) EllapsedTime: 67.2 seconds RetCode: 0 Status: OK CheckDir: OPWeight.Rcheck Warnings: 0