Package: OPWeight Version: 1.26.0 Command: chmod a+r OPWeight -R && E:\biocbuild\bbs-3.19-bioc\R\bin\R.exe CMD build --keep-empty-dirs --no-resave-data OPWeight StartedAt: 2024-10-16 20:50:05 -0400 (Wed, 16 Oct 2024) EndedAt: 2024-10-16 21:07:16 -0400 (Wed, 16 Oct 2024) EllapsedTime: 1031.8 seconds RetCode: 0 Status: OK PackageFile: OPWeight_1.26.0.tar.gz PackageFileSize: 317.3 KiB