Package: OPWeight Version: 1.26.0 Command: /home/biocbuild/bbs-3.19-bioc/R/bin/R CMD build --keep-empty-dirs --no-resave-data OPWeight StartedAt: 2024-10-16 19:55:44 -0400 (Wed, 16 Oct 2024) EndedAt: 2024-10-16 19:58:49 -0400 (Wed, 16 Oct 2024) EllapsedTime: 185.5 seconds RetCode: 0 Status: OK PackageFile: OPWeight_1.26.0.tar.gz PackageFileSize: 460.3 KiB