Package: OPWeight Version: 1.26.0 Command: /Library/Frameworks/R.framework/Resources/bin/R CMD check --install=check:OPWeight.install-out.txt --library=/Library/Frameworks/R.framework/Resources/library --no-vignettes --timings OPWeight_1.26.0.tar.gz StartedAt: 2024-06-09 22:01:03 -0400 (Sun, 09 Jun 2024) EndedAt: 2024-06-09 22:02:01 -0400 (Sun, 09 Jun 2024) EllapsedTime: 57.8 seconds RetCode: 0 Status: OK CheckDir: OPWeight.Rcheck Warnings: 0