Package: OPWeight Version: 1.26.0 Command: /home/biocbuild/R/R-beta-2024-04-15_r86425/bin/R CMD build --keep-empty-dirs --no-resave-data OPWeight StartedAt: 2024-05-09 02:17:09 -0000 (Thu, 09 May 2024) EndedAt: 2024-05-09 02:20:04 -0000 (Thu, 09 May 2024) EllapsedTime: 174.3 seconds RetCode: 0 Status: OK PackageFile: OPWeight_1.26.0.tar.gz PackageFileSize: 384.8 KiB