Package: OPWeight Version: 1.26.0 Command: /Library/Frameworks/R.framework/Resources/bin/R CMD build --keep-empty-dirs --no-resave-data OPWeight StartedAt: 2024-06-10 02:01:41 -0400 (Mon, 10 Jun 2024) EndedAt: 2024-06-10 02:05:50 -0400 (Mon, 10 Jun 2024) EllapsedTime: 248.5 seconds RetCode: 0 Status: OK PackageFile: OPWeight_1.26.0.tar.gz PackageFileSize: 489.1 KiB