Package: OPWeight Version: 1.26.0 Command: /Library/Frameworks/R.framework/Resources/bin/R CMD check --install=check:OPWeight.install-out.txt --library=/Library/Frameworks/R.framework/Resources/library --no-vignettes --timings OPWeight_1.26.0.tar.gz StartedAt: 2024-10-18 06:38:20 -0400 (Fri, 18 Oct 2024) EndedAt: 2024-10-18 06:39:22 -0400 (Fri, 18 Oct 2024) EllapsedTime: 62.7 seconds RetCode: 0 Status: OK CheckDir: OPWeight.Rcheck Warnings: 0