Package: OPWeight Version: 1.26.0 Command: rm -rf OPWeight.buildbin-libdir && mkdir OPWeight.buildbin-libdir && /Users/biocbuild/BBS/utils/build-universal.sh OPWeight_1.26.0.tar.gz /Library/Frameworks/R.framework/Resources/bin/R OPWeight.buildbin-libdir StartedAt: 2024-10-18 19:51:09 -0400 (Fri, 18 Oct 2024) EndedAt: 2024-10-18 19:51:17 -0400 (Fri, 18 Oct 2024) EllapsedTime: 8.0 seconds RetCode: 0 Status: OK PackageFile: OPWeight_1.26.0.tgz PackageFileSize: 520.6 KiB