Package: OPWeight Version: 1.26.0 Maintainer: Mohamad Hasan MaintainerEmail: shakilmohamad7 at gmail.com git_url: https://git.bioconductor.org/packages/OPWeight git_branch: RELEASE_3_19 git_last_commit: 54993a7 git_last_commit_date: 2024-04-30 10:58:57 -0400 (Tue, 30 Apr 2024)