Package: OMICsPCA Version: 1.22.0 Command: E:\biocbuild\bbs-3.19-bioc\R\bin\R.exe CMD INSTALL OMICsPCA StartedAt: 2024-10-16 17:21:34 -0400 (Wed, 16 Oct 2024) EndedAt: 2024-10-16 17:22:36 -0400 (Wed, 16 Oct 2024) EllapsedTime: 62.8 seconds RetCode: 0 Status: OK