Package: OMICsPCA Version: 1.22.0 Command: F:\biocbuild\bbs-3.19-bioc\R\bin\R.exe CMD INSTALL OMICsPCA StartedAt: 2024-06-26 16:52:14 -0400 (Wed, 26 Jun 2024) EndedAt: 2024-06-26 16:53:20 -0400 (Wed, 26 Jun 2024) EllapsedTime: 66.0 seconds RetCode: 0 Status: OK