Package: OMICsPCA Version: 1.22.0 Command: /home/biocbuild/bbs-3.19-bioc/R/bin/R CMD INSTALL OMICsPCA StartedAt: 2024-10-16 16:46:03 -0400 (Wed, 16 Oct 2024) EndedAt: 2024-10-16 16:46:53 -0400 (Wed, 16 Oct 2024) EllapsedTime: 50.1 seconds RetCode: 0 Status: OK