Package: OMICsPCA Version: 1.22.0 Command: /home/biocbuild/bbs-3.19-bioc/R/bin/R CMD build --keep-empty-dirs --no-resave-data OMICsPCA StartedAt: 2024-10-16 19:52:01 -0400 (Wed, 16 Oct 2024) EndedAt: 2024-10-16 19:54:55 -0400 (Wed, 16 Oct 2024) EllapsedTime: 173.3 seconds RetCode: 0 Status: OK PackageFile: OMICsPCA_1.22.0.tar.gz PackageFileSize: 4.444 MiB